BEGIN:VCALENDAR
VERSION:2.0
PRODID:-//SPD Ortsverein Lübeck-Hüxtertor - ECPv6.8.3//NONSGML v1.0//EN
CALSCALE:GREGORIAN
METHOD:PUBLISH
X-WR-CALNAME:SPD Ortsverein Lübeck-Hüxtertor
X-ORIGINAL-URL:https://spd-huextertor.de
X-WR-CALDESC:Veranstaltungen für SPD Ortsverein Lübeck-Hüxtertor
REFRESH-INTERVAL;VALUE=DURATION:PT1H
X-Robots-Tag:noindex
X-PUBLISHED-TTL:PT1H
BEGIN:VTIMEZONE
TZID:Europe/Berlin
BEGIN:DAYLIGHT
TZOFFSETFROM:+0100
TZOFFSETTO:+0200
TZNAME:CEST
DTSTART:20260329T010000
END:DAYLIGHT
BEGIN:STANDARD
TZOFFSETFROM:+0200
TZOFFSETTO:+0100
TZNAME:CET
DTSTART:20261025T010000
END:STANDARD
END:VTIMEZONE
BEGIN:VEVENT
DTSTART;TZID=Europe/Berlin:20260509T100000
DTEND;TZID=Europe/Berlin:20260509T130000
DTSTAMP:20260421T140938
CREATED:20260228T173921Z
LAST-MODIFIED:20260228T173921Z
UID:3147-1778320800-1778331600@spd-huextertor.de
SUMMARY:Kinderfest
DESCRIPTION:
URL:https://spd-huextertor.de/event/kinderfest-2/
LOCATION:Am Brink – Bolzplatz am Markt\, Lübeck
CATEGORIES:Kinderfest
ATTACH;FMTTYPE=image/jpeg:https://spd-huextertor.de/wp-content/uploads/2025/03/Kinderfest-Insta-2.jpg
END:VEVENT
END:VCALENDAR